BEGIN:VCALENDAR
VERSION:2.0
PRODID:gruene-gross-zimmern.de
METHOD:PUBLISH
BEGIN:VTIMEZONE
TZID:Europe/Berlin
X-LIC-LOCATION:Europe/Berlin
BEGIN:DAYLIGHT
TZOFFSETFROM:+0100
TZOFFSETTO:+0200
TZNAME:CEST
DTSTART:19700329T020000
RRULE:FREQ=YEARLY;INTERVAL=1;BYDAY=-1SU;BYMONTH=3
END:DAYLIGHT
BEGIN:STANDARD
TZOFFSETFROM:+0200
TZOFFSETTO:+0100
TZNAME:CET
DTSTART:19701025T030000
RRULE:FREQ=YEARLY;INTERVAL=1;BYDAY=-1SU;BYMONTH=10
END:STANDARD
END:VTIMEZONE
BEGIN:VEVENT
UID:2c1aec5df5224e070a1df4d969795fd3@gruene-gross-zimmern.de
URL;VALUE=URI:https://gruene-gross-zimmern.de/termine/sitzung-ortsbeirat-
 klein-zimmern/
LOCATION:Feuerwehrgerätehaus Klein-Zimmern, Markstraße 5, 64846 Groß-Z
 immern
SUMMARY:Sitzung Ortsbeirat Klein-Zimmern
DESCRIPTION;ALTREP="data:text/html,%0A%3Cp%3E%C3%96ffentliche%20Sitzung%2
 0des%20%3Ca%20href%3D%22https%3A%2F%2Fsessionnet.owl-it.de%2Fgross_zimmer
 n%2Fbi%2Fkp0040.asp%3F__kgrnr%3D147%26amp%3B%22%3EOrtsbeirats%20Klein-Zim
 mern%3C%2Fa%3E%3C%2Fp%3E%0A%0A%0A%0A%3Cp%3EDie%20Unterlagen%20zur%20Sitzu
 ng%20werden%20von%20der%20Gemeinde%20im%20SessionNet%20des%20Rats-%20und%
 20B%C3%BCrgerinformationssystems%20zur%20Verf%C3%BCgung%20gestellt%3A%20%
 3Ca%20href%3D%22https%3A%2F%2Fsessionnet.owl-it.de%2Fgross_zimmern%2Fbi%2
 Finfo.asp%22%3Ehttps%3A%2F%2Fsessionnet.owl-it.de%2Fgross_zimmern%2Fbi%2F
 info.asp%3C%2Fa%3E%3C%2Fp%3E%0A%0A%0A%0A%3Cp%3E%3C%2Fp%3E%0A":Öffentlich
 e Sitzung des Ortsbeirats Klein-Zimmern\n\nDie Unterlagen zur Sitzung wer
 den von der Gemeinde im SessionNet des Rats- und Bürgerinformationssyste
 ms zur Verfügung gestellt: https://sessionnet.owl-it.de/gross_zimmern/bi
 /info.asp
CLASS:PUBLIC
DTSTART;TZID=Europe/Berlin:20260504T190000
DTEND;TZID=Europe/Berlin:20260504T200000
DTSTAMP:20260422T111052
END:VEVENT
END:VCALENDAR